BEGIN:VCALENDAR
VERSION:2.0
PRODID:-//Bas Martens//Event//NL
CALSCALE:GREGORIAN
METHOD:PUBLISH
BEGIN:VEVENT
UID:23876-69e63e3fc5cfe@leidenasiacentre.nl
DTSTAMP:20260420T145455Z
DTSTART:20260529T154500Z
DTEND:20260529T170000Z
SUMMARY:Boekpresentatie &#8216\;Sushi eet je met je handen&#8217\;
DESCRIPTION:Op 29 mei presenteren&nbsp\;Anoma van der Veere en Katarzyna Cwiertka het boek 'Sushi eet je met je handen'\, een boek vol persoonlijke verhalen en onverwachte inzichten\, dat laat zien hoe eten het karakter van Japan weerspiegelt. Van matcha tot sushi en van straatvoedsel tot werelderfgoed.\\n\\n\\n\\nTijdens de bijeenkomst vertellen de auteurs hoe het boek is ontstaan\, delen zij hun blik op de Japanse eetcultuur en lichten ze toe wat dit zegt over de Japanse samenleving.\\n\\n\\n\\nSushi eet je met je handenDit boek neemt je mee op een culinaire reis door Japan en laat zien hoe eten de cultuur en geschiedenis van het land weerspiegelt. Aan de hand van ontmoetingen met makers zoals chefs en theemeesters ontdek je de oorsprong van bekende producten zoals sushi en matcha\, en hoe deze zich hebben ontwikkeld. Tegelijk laat het zien dat deze tradities onder druk staan. Het is een toegankelijk en persoonlijk verhaal vol inzichten over Japan en zijn eetcultuur.\\n\\n\\n\\n\\n\\n\\n\\nDeze boekpresentatie wordt georganiseerd door de LeidenGlobal\, het Leiden Asia Centre\, de Universitaire Bibliotheken Leiden\, in samenwerking met de Universiteit Leiden en uitgeverij Luitingh Sijthoff.
LOCATION:Homepage
END:VEVENT
END:VCALENDAR
